BEGIN:VCALENDAR
VERSION:2.0
PRODID:-//Plone.org//NONSGML plone.app.event//EN
X-WR-TIMEZONE:Europe/Berlin
BEGIN:VEVENT
SUMMARY:Blackmail – Tour 2006
DTSTART;TZID=Europe/Berlin:20060316T210000
DTSTAMP:20260421T000654Z
UID:ccfdb3fc7c424e54a07631bbe6c6f784@zmi.spielboden.at
CREATED:20120822T144602Z
LAST-MODIFIED:20210809T123821Z
URL:https://zmi.spielboden.at/Plone/veranstaltungen/2006/03_maerz/2006-03-
 16-21-00-blackmail-2013-tour-2006
END:VEVENT
BEGIN:VTIMEZONE
TZID:Europe/Berlin
X-LIC-LOCATION:Europe/Berlin
BEGIN:STANDARD
DTSTART:20051030T020000
TZNAME:CET
TZOFFSETFROM:+0200
TZOFFSETTO:+0100
END:STANDARD
END:VTIMEZONE
END:VCALENDAR
