BEGIN:VCALENDAR
VERSION:2.0
PRODID:-//Plone.org//NONSGML plone.app.event//EN
X-WR-TIMEZONE:Europe/Berlin
BEGIN:VEVENT
SUMMARY:Balkanexpress - Di Grine Kuzine
DTSTART;TZID=Europe/Berlin:20060315T210000
DTSTAMP:20260421T000950Z
UID:ae65f10fd68849238d04cec4337ef544@zmi.spielboden.at
CREATED:20120822T144609Z
LAST-MODIFIED:20210809T123824Z
URL:https://zmi.spielboden.at/Plone/veranstaltungen/2006/03_maerz/2006-03-
 15-21-00-balkanexpress-di-grine-kuzine
END:VEVENT
BEGIN:VTIMEZONE
TZID:Europe/Berlin
X-LIC-LOCATION:Europe/Berlin
BEGIN:STANDARD
DTSTART:20051030T020000
TZNAME:CET
TZOFFSETFROM:+0200
TZOFFSETTO:+0100
END:STANDARD
END:VTIMEZONE
END:VCALENDAR
