BEGIN:VCALENDAR
VERSION:2.0
PRODID:-//Plone.org//NONSGML plone.app.event//EN
X-WR-TIMEZONE:Europe/Berlin
BEGIN:VEVENT
SUMMARY:Docuzone - Der Traum ist aus – oder die Erben der Scherben
DTSTART;TZID=Europe/Berlin:20060315T203000
DTSTAMP:20260421T000621Z
UID:f666ef660cb24c708cfb0e17319c4d03@zmi.spielboden.at
CREATED:20120822T144611Z
LAST-MODIFIED:20210809T123824Z
URL:https://zmi.spielboden.at/Plone/veranstaltungen/2006/03_maerz/2006-03-
 15-20-30-docuzone-der-traum-ist-aus-2013-oder-die-erben-der-scherben
END:VEVENT
BEGIN:VTIMEZONE
TZID:Europe/Berlin
X-LIC-LOCATION:Europe/Berlin
BEGIN:STANDARD
DTSTART:20051030T020000
TZNAME:CET
TZOFFSETFROM:+0200
TZOFFSETTO:+0100
END:STANDARD
END:VTIMEZONE
END:VCALENDAR
