BEGIN:VCALENDAR
VERSION:2.0
PRODID:-//Plone.org//NONSGML plone.app.event//EN
X-WR-TIMEZONE:Europe/Berlin
BEGIN:VEVENT
SUMMARY:Docuzone - Yuanyou
DTSTART;TZID=Europe/Berlin:20060314T203000
DTSTAMP:20260421T000622Z
UID:65f04b76322b45e38c60629b6cf4f8d6@zmi.spielboden.at
CREATED:20120822T144614Z
DESCRIPTION:Regie: Stephan Settele\, mit Wang Chao Ying\, Thomas Bohle\nÖ
  2005\, 93 Minuten\, Video
LAST-MODIFIED:20210809T123825Z
URL:https://zmi.spielboden.at/Plone/veranstaltungen/2006/03_maerz/2006-03-
 14-20-30-docuzone-yuanyou
END:VEVENT
BEGIN:VTIMEZONE
TZID:Europe/Berlin
X-LIC-LOCATION:Europe/Berlin
BEGIN:STANDARD
DTSTART:20051030T020000
TZNAME:CET
TZOFFSETFROM:+0200
TZOFFSETTO:+0100
END:STANDARD
END:VTIMEZONE
END:VCALENDAR
