BEGIN:VCALENDAR
VERSION:2.0
PRODID:-//Plone.org//NONSGML plone.app.event//EN
X-WR-TIMEZONE:Europe/Berlin
BEGIN:VEVENT
SUMMARY:Wolfgang Muthspiel Trio
DTSTART;TZID=Europe/Berlin:20060311T203000
DTSTAMP:20260421T000835Z
UID:9626fe783a1e4527babe15057592260f@zmi.spielboden.at
CREATED:20120822T144601Z
DESCRIPTION:Wolfgang Muthspiel (guitar\, violin)\nMatthias Pichler (bass)\
 nAndreas Pichler (drums)
LAST-MODIFIED:20210809T123821Z
URL:https://zmi.spielboden.at/Plone/veranstaltungen/2006/03_maerz/2006-03-
 11-20-30-wolfgang-muthspiel-trio
END:VEVENT
BEGIN:VTIMEZONE
TZID:Europe/Berlin
X-LIC-LOCATION:Europe/Berlin
BEGIN:STANDARD
DTSTART:20051030T020000
TZNAME:CET
TZOFFSETFROM:+0200
TZOFFSETTO:+0100
END:STANDARD
END:VTIMEZONE
END:VCALENDAR
