BEGIN:VCALENDAR
VERSION:2.0
PRODID:-//Plone.org//NONSGML plone.app.event//EN
X-WR-TIMEZONE:Europe/Berlin
BEGIN:VEVENT
SUMMARY:Vernissage „Anpfiff zur WM 2006“ mit Helmut King
DTSTART;TZID=Europe/Berlin:20060310T190000
DTSTAMP:20260421T001115Z
UID:cef7d05129ca4d4e90dd283ccbcde50f@zmi.spielboden.at
CREATED:20120822T144607Z
LAST-MODIFIED:20210809T123824Z
URL:https://zmi.spielboden.at/Plone/veranstaltungen/2006/03_maerz/2006-03-
 10-19-00-vernissage-201eanpfiff-zur-wm-2006201c-mit-helmut-king
END:VEVENT
BEGIN:VTIMEZONE
TZID:Europe/Berlin
X-LIC-LOCATION:Europe/Berlin
BEGIN:STANDARD
DTSTART:20051030T020000
TZNAME:CET
TZOFFSETFROM:+0200
TZOFFSETTO:+0100
END:STANDARD
END:VTIMEZONE
END:VCALENDAR
