BEGIN:VCALENDAR
VERSION:2.0
PRODID:-//Plone.org//NONSGML plone.app.event//EN
X-WR-TIMEZONE:Europe/Berlin
BEGIN:VEVENT
SUMMARY:Docuzone - Based on a true Story
DTSTART;TZID=Europe/Berlin:20060308T203000
DTSTAMP:20260420T223425Z
UID:bb1fc20a2ad14ff2952e9f7f5db9f982@zmi.spielboden.at
CREATED:20120822T144606Z
DESCRIPTION:Regie: Walter Stokman\, NL\, 2004\, 75 Min./ S16mm/16:9
LAST-MODIFIED:20210809T123823Z
URL:https://zmi.spielboden.at/Plone/veranstaltungen/2006/03_maerz/2006-03-
 08-20-30-docuzone-based-on-a-true-story
END:VEVENT
BEGIN:VTIMEZONE
TZID:Europe/Berlin
X-LIC-LOCATION:Europe/Berlin
BEGIN:STANDARD
DTSTART:20051030T020000
TZNAME:CET
TZOFFSETFROM:+0200
TZOFFSETTO:+0100
END:STANDARD
END:VTIMEZONE
END:VCALENDAR
