BEGIN:VCALENDAR
VERSION:2.0
PRODID:-//Plone.org//NONSGML plone.app.event//EN
X-WR-TIMEZONE:Europe/Berlin
BEGIN:VEVENT
SUMMARY:Mikrokino - Artikel 7 - Unser Recht!
DTSTART;TZID=Europe/Berlin:20060307T203000
DTSTAMP:20260420T223657Z
UID:0a4edccdbb3144ed96a195872932b062@zmi.spielboden.at
CREATED:20120822T144610Z
LAST-MODIFIED:20120910T114106Z
URL:https://zmi.spielboden.at/Plone/veranstaltungen/2006/03_maerz/2006-03-
 07-20-30-mikrokino-artikel-7-unser-recht
END:VEVENT
BEGIN:VTIMEZONE
TZID:Europe/Berlin
X-LIC-LOCATION:Europe/Berlin
BEGIN:STANDARD
DTSTART:20051030T020000
TZNAME:CET
TZOFFSETFROM:+0200
TZOFFSETTO:+0100
END:STANDARD
END:VTIMEZONE
END:VCALENDAR
