BEGIN:VCALENDAR
VERSION:2.0
PRODID:-//Plone.org//NONSGML plone.app.event//EN
X-WR-TIMEZONE:Europe/Berlin
BEGIN:VEVENT
SUMMARY:KICK OFF PARTY - Programmpräsentation zum 17. Szene Open Air 2006
DTSTART;TZID=Europe/Berlin:20060304T190000
DTSTAMP:20260421T001022Z
UID:cfd7b5e8b3ec40709919e6a109ca510e@zmi.spielboden.at
CREATED:20120822T144604Z
DESCRIPTION:Live: House of Riddim (A)\, Khoiba (CZ) und Special Guest
LAST-MODIFIED:20210809T123821Z
URL:https://zmi.spielboden.at/Plone/veranstaltungen/2006/03_maerz/2006-03-
 04-19-00-kick-off-party-programmpraesentation-zum-17-szene-open-air-2006
END:VEVENT
BEGIN:VTIMEZONE
TZID:Europe/Berlin
X-LIC-LOCATION:Europe/Berlin
BEGIN:STANDARD
DTSTART:20051030T020000
TZNAME:CET
TZOFFSETFROM:+0200
TZOFFSETTO:+0100
END:STANDARD
END:VTIMEZONE
END:VCALENDAR
