BEGIN:VCALENDAR
VERSION:2.0
PRODID:-//Plone.org//NONSGML plone.app.event//EN
X-WR-TIMEZONE:Europe/Berlin
BEGIN:VEVENT
SUMMARY:RatzFatz – Schwarze Katz
DTSTART;TZID=Europe/Berlin:20060304T150000
DTSTAMP:20260420T223643Z
UID:ccd9cc52191b4409bb4faa489b4a2b39@zmi.spielboden.at
CREATED:20120822T144600Z
DESCRIPTION:RatzFatzKinderKonzert\, Mitmachkonzert ab 4 Jahren.
LAST-MODIFIED:20210809T123615Z
URL:https://zmi.spielboden.at/Plone/veranstaltungen/2006/03_maerz/2006-03-
 04-15-00-ratzfatz-2013-schwarze-katz
END:VEVENT
BEGIN:VTIMEZONE
TZID:Europe/Berlin
X-LIC-LOCATION:Europe/Berlin
BEGIN:STANDARD
DTSTART:20051030T020000
TZNAME:CET
TZOFFSETFROM:+0200
TZOFFSETTO:+0100
END:STANDARD
END:VTIMEZONE
END:VCALENDAR
