BEGIN:VCALENDAR
VERSION:2.0
PRODID:-//Plone.org//NONSGML plone.app.event//EN
X-WR-TIMEZONE:Europe/Berlin
BEGIN:VEVENT
SUMMARY:African Sunshine Party
DTSTART;TZID=Europe/Berlin:20060225T200000
DTSTAMP:20260420T223600Z
UID:56055e4406104f92867e8f330af58f43@zmi.spielboden.at
CREATED:20120822T144557Z
LAST-MODIFIED:20210809T123613Z
URL:https://zmi.spielboden.at/Plone/veranstaltungen/2006/02_februar/2006-0
 2-25-20-00-african-sunshine-party
END:VEVENT
BEGIN:VTIMEZONE
TZID:Europe/Berlin
X-LIC-LOCATION:Europe/Berlin
BEGIN:STANDARD
DTSTART:20051030T020000
TZNAME:CET
TZOFFSETFROM:+0200
TZOFFSETTO:+0100
END:STANDARD
END:VTIMEZONE
END:VCALENDAR
