BEGIN:VCALENDAR
VERSION:2.0
PRODID:-//Plone.org//NONSGML plone.app.event//EN
X-WR-TIMEZONE:Europe/Berlin
BEGIN:VEVENT
SUMMARY:Rotkäppchen
DTSTART;TZID=Europe/Berlin:20060225T150000
DTSTAMP:20260421T000506Z
UID:971dcb8296224de3bd00f6c1fa43b2b1@zmi.spielboden.at
CREATED:20120822T144557Z
DESCRIPTION:Clownduo Coco\, clowneskes Märchenspiel ab 5 Jahren.
LAST-MODIFIED:20210809T123613Z
URL:https://zmi.spielboden.at/Plone/veranstaltungen/2006/02_februar/2006-0
 2-25-15-00-rotkaeppchen
END:VEVENT
BEGIN:VTIMEZONE
TZID:Europe/Berlin
X-LIC-LOCATION:Europe/Berlin
BEGIN:STANDARD
DTSTART:20051030T020000
TZNAME:CET
TZOFFSETFROM:+0200
TZOFFSETTO:+0100
END:STANDARD
END:VTIMEZONE
END:VCALENDAR
