BEGIN:VCALENDAR
VERSION:2.0
PRODID:-//Plone.org//NONSGML plone.app.event//EN
X-WR-TIMEZONE:Europe/Berlin
BEGIN:VEVENT
SUMMARY:Thomas Stipsits in Griechenland – Die Legende des Trinkers
DTSTART;TZID=Europe/Berlin:20060224T203000
DTSTAMP:20260421T001037Z
UID:53de9944fc784b3d92f50205068777b3@zmi.spielboden.at
CREATED:20120822T144557Z
LAST-MODIFIED:20210809T123613Z
URL:https://zmi.spielboden.at/Plone/veranstaltungen/2006/02_februar/2006-0
 2-24-20-30-thomas-stipsits-in-griechenland-2013-die-legende-des-trinkers
END:VEVENT
BEGIN:VTIMEZONE
TZID:Europe/Berlin
X-LIC-LOCATION:Europe/Berlin
BEGIN:STANDARD
DTSTART:20051030T020000
TZNAME:CET
TZOFFSETFROM:+0200
TZOFFSETTO:+0100
END:STANDARD
END:VTIMEZONE
END:VCALENDAR
