BEGIN:VCALENDAR
VERSION:2.0
PRODID:-//Plone.org//NONSGML plone.app.event//EN
X-WR-TIMEZONE:Europe/Berlin
BEGIN:VEVENT
SUMMARY:Werner Brix – Unter Zwang
DTSTART;TZID=Europe/Berlin:20060222T203000
DTSTAMP:20260420T223401Z
UID:72ac47c0cfbf486cada486c930615dd3@zmi.spielboden.at
CREATED:20120822T144556Z
DESCRIPTION:Gewinner des Salzburger Stiers 2005. Westösterreichpremiere!
LAST-MODIFIED:20210809T123613Z
URL:https://zmi.spielboden.at/Plone/veranstaltungen/2006/02_februar/2006-0
 2-22-20-30-werner-brix-2013-unter-zwang
END:VEVENT
BEGIN:VTIMEZONE
TZID:Europe/Berlin
X-LIC-LOCATION:Europe/Berlin
BEGIN:STANDARD
DTSTART:20051030T020000
TZNAME:CET
TZOFFSETFROM:+0200
TZOFFSETTO:+0100
END:STANDARD
END:VTIMEZONE
END:VCALENDAR
