BEGIN:VCALENDAR
VERSION:2.0
PRODID:-//Plone.org//NONSGML plone.app.event//EN
X-WR-TIMEZONE:Europe/Berlin
BEGIN:VEVENT
SUMMARY:Franui – Wie man Trauermärsche spielt und dabei das Tanzbein sc
 hwingt
DTSTART;TZID=Europe/Berlin:20060221T203000
DTSTAMP:20260420T223928Z
UID:ef600491509c4675a4a7a6f7849a56de@zmi.spielboden.at
CREATED:20120822T144555Z
DESCRIPTION:Johannes Eder: Klarinette\, Sopransaxophon\nRomed Hopfgartner:
  Sopran-\, Altsaxophon\nMarkus Kraler: Kontrabass\, Akkordeon\, Kompositio
 n\nAngelika Rainer: Harfe\, Gesang\nBettina Rainer: chromat. und diatonisc
 hes Hackbrett\, Gitarre\, Gesang\nMarkus Rainer: Trompete\, Kornett\, Gesa
 ng\nAndreas Schett: Trompete\, Kornett\, Sologesang\, Komposition\, Leitun
 g\nMartin Senfter: Ventilposaune\, Gesang\nKarlheinz Siessl: Tuba
LAST-MODIFIED:20210809T123613Z
URL:https://zmi.spielboden.at/Plone/veranstaltungen/2006/02_februar/2006-0
 2-21-20-30-franui-2013-wie-man-trauermaersche-spielt-und-dabei-das-tanzbei
 n-schwingt
END:VEVENT
BEGIN:VTIMEZONE
TZID:Europe/Berlin
X-LIC-LOCATION:Europe/Berlin
BEGIN:STANDARD
DTSTART:20051030T020000
TZNAME:CET
TZOFFSETFROM:+0200
TZOFFSETTO:+0100
END:STANDARD
END:VTIMEZONE
END:VCALENDAR
