BEGIN:VCALENDAR
VERSION:2.0
PRODID:-//Plone.org//NONSGML plone.app.event//EN
X-WR-TIMEZONE:Europe/Berlin
BEGIN:VEVENT
SUMMARY:Yuanyou
DTSTART;TZID=Europe/Berlin:20060215T203000
DTSTAMP:20260420T223354Z
UID:1620d39fc8fb4440862f1163493419d6@zmi.spielboden.at
CREATED:20120822T144553Z
DESCRIPTION:Regie: Stephan Settele\, mit Wang Chao Ying\, Thomas Bohle\nÖ
  2005\, 93 Minuten\, Video
LAST-MODIFIED:20210809T123612Z
URL:https://zmi.spielboden.at/Plone/veranstaltungen/2006/02_februar/2006-0
 2-15-20-30-yuanyou
END:VEVENT
BEGIN:VTIMEZONE
TZID:Europe/Berlin
X-LIC-LOCATION:Europe/Berlin
BEGIN:STANDARD
DTSTART:20051030T020000
TZNAME:CET
TZOFFSETFROM:+0200
TZOFFSETTO:+0100
END:STANDARD
END:VTIMEZONE
END:VCALENDAR
