BEGIN:VCALENDAR
VERSION:2.0
PRODID:-//Plone.org//NONSGML plone.app.event//EN
X-WR-TIMEZONE:Europe/Berlin
BEGIN:VEVENT
SUMMARY:Stefan Vögel – Solo
DTSTART;TZID=Europe/Berlin:20060214T203000
DTSTAMP:20260421T000604Z
UID:1c304aa7dda94edcbc8830180af9b700@zmi.spielboden.at
CREATED:20120822T150000Z
LAST-MODIFIED:20210809T124153Z
URL:https://zmi.spielboden.at/Plone/veranstaltungen/2006/02_februar/2006-0
 2-14-20-30-stefan-vogel-2013-solo
END:VEVENT
BEGIN:VTIMEZONE
TZID:Europe/Berlin
X-LIC-LOCATION:Europe/Berlin
BEGIN:STANDARD
DTSTART:20051030T020000
TZNAME:CET
TZOFFSETFROM:+0200
TZOFFSETTO:+0100
END:STANDARD
END:VTIMEZONE
END:VCALENDAR
