BEGIN:VCALENDAR
VERSION:2.0
PRODID:-//Plone.org//NONSGML plone.app.event//EN
X-WR-TIMEZONE:Europe/Berlin
BEGIN:VEVENT
SUMMARY:Fatima Spar und die Freedom Fries
DTSTART;TZID=Europe/Berlin:20060211T210000
DTSTAMP:20260420T223825Z
UID:9871f2b1ee1940f6b8f447fb624cb1be@zmi.spielboden.at
CREATED:20120822T144552Z
DESCRIPTION:Fatima Spar: Gesang\, Tamburin\nAlexander Wladigeroff: Trompet
 e\, Flügelhorn\nAndrej Prosorov: Saxophon \nMilos Todorovski: Akkordeon\n
 Philipp Moosbrugger: Kontrabass\nErwin Schober: Drums
LAST-MODIFIED:20210809T123612Z
URL:https://zmi.spielboden.at/Plone/veranstaltungen/2006/02_februar/2006-0
 2-11-21-00-fatima-spar-und-die-freedom-fries
END:VEVENT
BEGIN:VTIMEZONE
TZID:Europe/Berlin
X-LIC-LOCATION:Europe/Berlin
BEGIN:STANDARD
DTSTART:20051030T020000
TZNAME:CET
TZOFFSETFROM:+0200
TZOFFSETTO:+0100
END:STANDARD
END:VTIMEZONE
END:VCALENDAR
