BEGIN:VCALENDAR
VERSION:2.0
PRODID:-//Plone.org//NONSGML plone.app.event//EN
X-WR-TIMEZONE:Europe/Berlin
BEGIN:VEVENT
SUMMARY:Alfred im Stroh und anderswo
DTSTART;TZID=Europe/Berlin:20060211T150000
DTSTAMP:20260420T223555Z
UID:590b7fa12af64bb6918a1bf04405a1c2@zmi.spielboden.at
CREATED:20120822T144552Z
DESCRIPTION:Kinderfigurentheater Lakupaka ab 5 Jahren.
LAST-MODIFIED:20210809T123612Z
URL:https://zmi.spielboden.at/Plone/veranstaltungen/2006/02_februar/2006-0
 2-11-15-00-alfred-im-stroh-und-anderswo
END:VEVENT
BEGIN:VTIMEZONE
TZID:Europe/Berlin
X-LIC-LOCATION:Europe/Berlin
BEGIN:STANDARD
DTSTART:20051030T020000
TZNAME:CET
TZOFFSETFROM:+0200
TZOFFSETTO:+0100
END:STANDARD
END:VTIMEZONE
END:VCALENDAR
