BEGIN:VCALENDAR
VERSION:2.0
PRODID:-//Plone.org//NONSGML plone.app.event//EN
X-WR-TIMEZONE:Europe/Berlin
BEGIN:VEVENT
SUMMARY:Larry Coryell-Victor Bailey-Lenny White-Trio
DTSTART;TZID=Europe/Berlin:20060210T203000
DTSTAMP:20260420T223641Z
UID:13db1e96bbc241788bf1299ccde0a7bd@zmi.spielboden.at
CREATED:20120822T144551Z
DESCRIPTION:Larry Coryell (guitar)\nVictor Bailey (bass)\nLenny White (dru
 ms)
LAST-MODIFIED:20210809T123612Z
URL:https://zmi.spielboden.at/Plone/veranstaltungen/2006/02_februar/2006-0
 2-10-20-30-larry-coryell-victor-bailey-lenny-white-trio
END:VEVENT
BEGIN:VTIMEZONE
TZID:Europe/Berlin
X-LIC-LOCATION:Europe/Berlin
BEGIN:STANDARD
DTSTART:20051030T020000
TZNAME:CET
TZOFFSETFROM:+0200
TZOFFSETTO:+0100
END:STANDARD
END:VTIMEZONE
END:VCALENDAR
