BEGIN:VCALENDAR
VERSION:2.0
PRODID:-//Plone.org//NONSGML plone.app.event//EN
X-WR-TIMEZONE:Europe/Berlin
BEGIN:VEVENT
SUMMARY:Salsa Night
DTSTART;TZID=Europe/Berlin:20060209T210000
DTSTAMP:20260421T000524Z
UID:8c2a6f0752dc43bbb13571bbaf40c811@zmi.spielboden.at
CREATED:20120822T144551Z
LAST-MODIFIED:20210809T123611Z
URL:https://zmi.spielboden.at/Plone/veranstaltungen/2006/02_februar/2006-0
 2-09-21-00-salsa-night
END:VEVENT
BEGIN:VTIMEZONE
TZID:Europe/Berlin
X-LIC-LOCATION:Europe/Berlin
BEGIN:STANDARD
DTSTART:20051030T020000
TZNAME:CET
TZOFFSETFROM:+0200
TZOFFSETTO:+0100
END:STANDARD
END:VTIMEZONE
END:VCALENDAR
