BEGIN:VCALENDAR
VERSION:2.0
PRODID:-//Plone.org//NONSGML plone.app.event//EN
X-WR-TIMEZONE:Europe/Berlin
BEGIN:VEVENT
SUMMARY:Das Göbbels-Experiment
DTSTART;TZID=Europe/Berlin:20060208T203000
DTSTAMP:20260421T000501Z
UID:151bc25de93f47c08d292905a62109f8@zmi.spielboden.at
CREATED:20120822T144558Z
DESCRIPTION:Von Lutz Hachmeister und Michael Kloft\nD 2004\, 107 Minuten
LAST-MODIFIED:20210809T123613Z
URL:https://zmi.spielboden.at/Plone/veranstaltungen/2006/02_februar/2006-0
 2-08-20-30-das-goebbels-experiment
END:VEVENT
BEGIN:VTIMEZONE
TZID:Europe/Berlin
X-LIC-LOCATION:Europe/Berlin
BEGIN:STANDARD
DTSTART:20051030T020000
TZNAME:CET
TZOFFSETFROM:+0200
TZOFFSETTO:+0100
END:STANDARD
END:VTIMEZONE
END:VCALENDAR
