BEGIN:VCALENDAR
VERSION:2.0
PRODID:-//Plone.org//NONSGML plone.app.event//EN
X-WR-TIMEZONE:Europe/Berlin
BEGIN:VEVENT
SUMMARY:The Globe
DTSTART;TZID=Europe/Berlin:20060204T210000
DTSTAMP:20260420T223234Z
UID:bf23abbfe5784306b07d5c27ac9d305e@zmi.spielboden.at
CREATED:20120822T144550Z
DESCRIPTION:World-Music-Dance-Event
LAST-MODIFIED:20210809T123611Z
URL:https://zmi.spielboden.at/Plone/veranstaltungen/2006/02_februar/2006-0
 2-04-21-00-the-globe
END:VEVENT
BEGIN:VTIMEZONE
TZID:Europe/Berlin
X-LIC-LOCATION:Europe/Berlin
BEGIN:STANDARD
DTSTART:20051030T020000
TZNAME:CET
TZOFFSETFROM:+0200
TZOFFSETTO:+0100
END:STANDARD
END:VTIMEZONE
END:VCALENDAR
