BEGIN:VCALENDAR
VERSION:2.0
PRODID:-//Plone.org//NONSGML plone.app.event//EN
X-WR-TIMEZONE:Europe/Berlin
BEGIN:VEVENT
SUMMARY:Ein Wiedersehen auf Bullerbü
DTSTART;TZID=Europe/Berlin:20060204T150000
DTSTAMP:20260420T223710Z
UID:e83288ab26be43808da230c78e704187@zmi.spielboden.at
CREATED:20120822T144559Z
DESCRIPTION:Kinderfilm von Astrid Lindgren\, ab 5 Jahren.
LAST-MODIFIED:20210809T123614Z
URL:https://zmi.spielboden.at/Plone/veranstaltungen/2006/02_februar/2006-0
 2-04-15-00-ein-wiedersehen-auf-bullerbue
END:VEVENT
BEGIN:VTIMEZONE
TZID:Europe/Berlin
X-LIC-LOCATION:Europe/Berlin
BEGIN:STANDARD
DTSTART:20051030T020000
TZNAME:CET
TZOFFSETFROM:+0200
TZOFFSETTO:+0100
END:STANDARD
END:VTIMEZONE
END:VCALENDAR
