BEGIN:VCALENDAR
VERSION:2.0
PRODID:-//Plone.org//NONSGML plone.app.event//EN
X-WR-TIMEZONE:Europe/Berlin
BEGIN:VEVENT
SUMMARY:60er/70er Sound mit DJ Ernesto
DTSTART;TZID=Europe/Berlin:20060128T210000
DTSTAMP:20260420T210448Z
UID:dad3aa9bcbb64fed8f0d90b81d1eee82@zmi.spielboden.at
CREATED:20120822T144549Z
LAST-MODIFIED:20120910T114104Z
URL:https://zmi.spielboden.at/Plone/veranstaltungen/2006/01_jaenner/2006-0
 1-28-21-00-60er-70er-sound-mit-dj-ernesto
END:VEVENT
BEGIN:VTIMEZONE
TZID:Europe/Berlin
X-LIC-LOCATION:Europe/Berlin
BEGIN:STANDARD
DTSTART:20051030T020000
TZNAME:CET
TZOFFSETFROM:+0200
TZOFFSETTO:+0100
END:STANDARD
END:VTIMEZONE
END:VCALENDAR
