BEGIN:VCALENDAR
VERSION:2.0
PRODID:-//Plone.org//NONSGML plone.app.event//EN
X-WR-TIMEZONE:Europe/Berlin
BEGIN:VEVENT
SUMMARY:Kasperletheater
DTSTART;TZID=Europe/Berlin:20060128T150000
DTSTAMP:20260420T210242Z
UID:9b2a42a2fdf948b4a49d41348683aac4@zmi.spielboden.at
CREATED:20120822T144545Z
LAST-MODIFIED:20210809T123610Z
URL:https://zmi.spielboden.at/Plone/veranstaltungen/2006/01_jaenner/2006-0
 1-28-15-00-kasperletheater
END:VEVENT
BEGIN:VTIMEZONE
TZID:Europe/Berlin
X-LIC-LOCATION:Europe/Berlin
BEGIN:STANDARD
DTSTART:20051030T020000
TZNAME:CET
TZOFFSETFROM:+0200
TZOFFSETTO:+0100
END:STANDARD
END:VTIMEZONE
END:VCALENDAR
