BEGIN:VCALENDAR
VERSION:2.0
PRODID:-//Plone.org//NONSGML plone.app.event//EN
X-WR-TIMEZONE:Europe/Berlin
BEGIN:VEVENT
SUMMARY:Mario Pavone's Orange Band
DTSTART;TZID=Europe/Berlin:20060127T203000
DTSTAMP:20260420T210317Z
UID:5682770078944b3693f7c7ece39f8a33@zmi.spielboden.at
CREATED:20120822T144548Z
DESCRIPTION:Mario Pavone - bass\nSteven Bernstein - tp\nTony Malaby - t-sa
 x\nPeter Madsen - p\nGerald Cleaver – dr
LAST-MODIFIED:20210809T123611Z
URL:https://zmi.spielboden.at/Plone/veranstaltungen/2006/01_jaenner/2006-0
 1-27-20-30-mario-pavone-s-orange-band
END:VEVENT
BEGIN:VTIMEZONE
TZID:Europe/Berlin
X-LIC-LOCATION:Europe/Berlin
BEGIN:STANDARD
DTSTART:20051030T020000
TZNAME:CET
TZOFFSETFROM:+0200
TZOFFSETTO:+0100
END:STANDARD
END:VTIMEZONE
END:VCALENDAR
