BEGIN:VCALENDAR
VERSION:2.0
PRODID:-//Plone.org//NONSGML plone.app.event//EN
X-WR-TIMEZONE:Europe/Berlin
BEGIN:VEVENT
SUMMARY:Die "Zigeunerpolitik" von 1938-1945
DTSTART;TZID=Europe/Berlin:20060122T103000
DTSTAMP:20260420T210547Z
UID:7cf27ee52c954281887bbb5174972e6b@zmi.spielboden.at
CREATED:20120822T144549Z
DESCRIPTION:Oliver Seifert: Roma und Sinti im Gau Tirol-Vorarlberg. (Band 
 6 der Tiroler Studien zu Politik und Geschichte der Michael-Gaismair-Gesel
 lschaft)
LAST-MODIFIED:20120910T114104Z
URL:https://zmi.spielboden.at/Plone/veranstaltungen/2006/01_jaenner/2006-0
 1-22-10-30-die-zigeunerpolitik-von-1938-1945
END:VEVENT
BEGIN:VTIMEZONE
TZID:Europe/Berlin
X-LIC-LOCATION:Europe/Berlin
BEGIN:STANDARD
DTSTART:20051030T020000
TZNAME:CET
TZOFFSETFROM:+0200
TZOFFSETTO:+0100
END:STANDARD
END:VTIMEZONE
END:VCALENDAR
