BEGIN:VCALENDAR
VERSION:2.0
PRODID:-//Plone.org//NONSGML plone.app.event//EN
X-WR-TIMEZONE:Europe/Berlin
BEGIN:VEVENT
SUMMARY:Krach im Dach mit Witwe Grantel
DTSTART;TZID=Europe/Berlin:20060121T150000
DTSTAMP:20260420T210242Z
UID:9072a2b01fe74f2e9225c9cff962a872@zmi.spielboden.at
CREATED:20120822T144548Z
LAST-MODIFIED:20210809T123611Z
URL:https://zmi.spielboden.at/Plone/veranstaltungen/2006/01_jaenner/2006-0
 1-21-15-00-krach-im-dach-mit-witwe-grantel
END:VEVENT
BEGIN:VTIMEZONE
TZID:Europe/Berlin
X-LIC-LOCATION:Europe/Berlin
BEGIN:STANDARD
DTSTART:20051030T020000
TZNAME:CET
TZOFFSETFROM:+0200
TZOFFSETTO:+0100
END:STANDARD
END:VTIMEZONE
END:VCALENDAR
