BEGIN:VCALENDAR
VERSION:2.0
PRODID:-//Plone.org//NONSGML plone.app.event//EN
X-WR-TIMEZONE:Europe/Berlin
BEGIN:VEVENT
SUMMARY:Shutka - Stadt der Roma
DTSTART;TZID=Europe/Berlin:20060118T203000
DTSTAMP:20260420T210339Z
UID:bc1cdb5c9f3c4a84af044a61ddca4e2a@zmi.spielboden.at
CREATED:20120822T144546Z
DESCRIPTION:Buch\, Produktion & Regie: Aleksandar Manic\nTschechische Repu
 blik\, Serbien & Montenegro 2005\, 79’\, Farbe/sw\, Mazedonisch/Romanes 
 m. dt. U.
LAST-MODIFIED:20210809T123610Z
URL:https://zmi.spielboden.at/Plone/veranstaltungen/2006/01_jaenner/2006-0
 1-18-20-30-shutka-stadt-der-roma
END:VEVENT
BEGIN:VTIMEZONE
TZID:Europe/Berlin
X-LIC-LOCATION:Europe/Berlin
BEGIN:STANDARD
DTSTART:20051030T020000
TZNAME:CET
TZOFFSETFROM:+0200
TZOFFSETTO:+0100
END:STANDARD
END:VTIMEZONE
END:VCALENDAR
