BEGIN:VCALENDAR
VERSION:2.0
PRODID:-//Plone.org//NONSGML plone.app.event//EN
X-WR-TIMEZONE:Europe/Berlin
BEGIN:VEVENT
SUMMARY:The Corporation
DTSTART;TZID=Europe/Berlin:20060117T203000
DTSTAMP:20260420T210317Z
UID:044da59588d34934bdfd9b88d0d84ae3@zmi.spielboden.at
CREATED:20120822T144547Z
DESCRIPTION:Regie: Mark Achbar und Jennifer Abbott\, Kanada 2004\, DVD\, 1
 45 Minuten\, OmdU
LAST-MODIFIED:20210809T123610Z
URL:https://zmi.spielboden.at/Plone/veranstaltungen/2006/01_jaenner/2006-0
 1-17-20-30-the-corporation
END:VEVENT
BEGIN:VTIMEZONE
TZID:Europe/Berlin
X-LIC-LOCATION:Europe/Berlin
BEGIN:STANDARD
DTSTART:20051030T020000
TZNAME:CET
TZOFFSETFROM:+0200
TZOFFSETTO:+0100
END:STANDARD
END:VTIMEZONE
END:VCALENDAR
