BEGIN:VCALENDAR
VERSION:2.0
PRODID:-//Plone.org//NONSGML plone.app.event//EN
X-WR-TIMEZONE:Europe/Berlin
BEGIN:VEVENT
SUMMARY:Maria Joao & Saxofour
DTSTART;TZID=Europe/Berlin:20060114T203000
DTSTAMP:20260420T210253Z
UID:1900291e666f4ea4af9c23ffd47ecd14@zmi.spielboden.at
CREATED:20120822T144544Z
DESCRIPTION:Wolfgang Puschnig - saxes\nKlaus Dickbauer - saxes\nFlorian Br
 amböck - saxes\nChristian Maurer - saxes\nMaria Joao - voc
LAST-MODIFIED:20210809T123610Z
URL:https://zmi.spielboden.at/Plone/veranstaltungen/2006/01_jaenner/2006-0
 1-14-20-30-maria-joao-saxofour
END:VEVENT
BEGIN:VTIMEZONE
TZID:Europe/Berlin
X-LIC-LOCATION:Europe/Berlin
BEGIN:STANDARD
DTSTART:20051030T020000
TZNAME:CET
TZOFFSETFROM:+0200
TZOFFSETTO:+0100
END:STANDARD
END:VTIMEZONE
END:VCALENDAR
