BEGIN:VCALENDAR
VERSION:2.0
PRODID:-//Plone.org//NONSGML plone.app.event//EN
X-WR-TIMEZONE:Europe/Berlin
BEGIN:VEVENT
SUMMARY:The Rolling Bones
DTSTART;TZID=Europe/Berlin:20060113T210000
DTSTAMP:20260420T210000Z
UID:7de21b51f0844028983b2b2e4b868582@zmi.spielboden.at
CREATED:20120822T144544Z
LAST-MODIFIED:20210809T123610Z
URL:https://zmi.spielboden.at/Plone/veranstaltungen/2006/01_jaenner/2006-0
 1-13-21-00-the-rolling-bones
END:VEVENT
BEGIN:VTIMEZONE
TZID:Europe/Berlin
X-LIC-LOCATION:Europe/Berlin
BEGIN:STANDARD
DTSTART:20051030T020000
TZNAME:CET
TZOFFSETFROM:+0200
TZOFFSETTO:+0100
END:STANDARD
END:VTIMEZONE
END:VCALENDAR
