BEGIN:VCALENDAR
VERSION:2.0
PRODID:-//Plone.org//NONSGML plone.app.event//EN
X-WR-TIMEZONE:Europe/Berlin
BEGIN:VEVENT
SUMMARY:Poetry Slam - Kampf der Dichter
DTSTART;TZID=Europe/Berlin:20051021T200000
DTSTAMP:20260420T210126Z
UID:af9cd3387eb74a288fc54bcf4ea9ffb2@zmi.spielboden.at
CREATED:20120822T150311Z
LAST-MODIFIED:20210809T125847Z
URL:https://zmi.spielboden.at/Plone/veranstaltungen/2005/2005-10-21-20-00-
 poetry-slam-kampf-der-dichter
END:VEVENT
BEGIN:VTIMEZONE
TZID:Europe/Berlin
X-LIC-LOCATION:Europe/Berlin
BEGIN:DAYLIGHT
DTSTART:20050327T030000
TZNAME:CEST
TZOFFSETFROM:+0100
TZOFFSETTO:+0200
END:DAYLIGHT
END:VTIMEZONE
END:VCALENDAR
