BEGIN:VCALENDAR
VERSION:2.0
PRODID:-//Plone.org//NONSGML plone.app.event//EN
X-WR-TIMEZONE:Europe/Berlin
BEGIN:VEVENT
SUMMARY:Poetry Slam - Kampf der Dichter
DTSTART;TZID=Europe/Berlin:20050527T200000
DTSTAMP:20260420T210125Z
UID:d0d6878b539a4cbd89496eabafe2a26a@zmi.spielboden.at
CREATED:20120822T150006Z
LAST-MODIFIED:20210809T124115Z
URL:https://zmi.spielboden.at/Plone/veranstaltungen/2005/2005-05-27-20-00-
 poetry-slam-kampf-der-dichter
END:VEVENT
BEGIN:VTIMEZONE
TZID:Europe/Berlin
X-LIC-LOCATION:Europe/Berlin
BEGIN:DAYLIGHT
DTSTART:20050327T030000
TZNAME:CEST
TZOFFSETFROM:+0100
TZOFFSETTO:+0200
END:DAYLIGHT
END:VTIMEZONE
END:VCALENDAR
