BEGIN:VCALENDAR
VERSION:2.0
PRODID:-//Plone.org//NONSGML plone.app.event//EN
X-WR-TIMEZONE:Europe/Berlin
BEGIN:VEVENT
SUMMARY:The Globe
DTSTART;TZID=Europe/Berlin:20051230T210000
DTSTAMP:20260420T210004Z
UID:fa142d90b51f48e39721a9e61e2f586d@zmi.spielboden.at
CREATED:20120822T144542Z
LAST-MODIFIED:20210809T123609Z
URL:https://zmi.spielboden.at/Plone/veranstaltungen/2005/12_dezember/2005-
 12-30-21-00-the-globe
END:VEVENT
BEGIN:VTIMEZONE
TZID:Europe/Berlin
X-LIC-LOCATION:Europe/Berlin
BEGIN:STANDARD
DTSTART:20051030T020000
TZNAME:CET
TZOFFSETFROM:+0200
TZOFFSETTO:+0100
END:STANDARD
END:VTIMEZONE
END:VCALENDAR
