BEGIN:VCALENDAR
VERSION:2.0
PRODID:-//Plone.org//NONSGML plone.app.event//EN
X-WR-TIMEZONE:Europe/Berlin
BEGIN:VEVENT
SUMMARY:Poetry Slam - Kampf der Dichter
DTSTART;TZID=Europe/Berlin:20040514T200000
DTSTAMP:20260420T194733Z
UID:8d80a93d17c14ea4afe30c7960549d6e@zmi.spielboden.at
CREATED:20120822T150310Z
LAST-MODIFIED:20210809T125846Z
URL:https://zmi.spielboden.at/Plone/veranstaltungen/2004/2004-05-14-20-00-
 poetry-slam-kampf-der-dichter
END:VEVENT
BEGIN:VTIMEZONE
TZID:Europe/Berlin
X-LIC-LOCATION:Europe/Berlin
BEGIN:DAYLIGHT
DTSTART:20040328T030000
TZNAME:CEST
TZOFFSETFROM:+0100
TZOFFSETTO:+0200
END:DAYLIGHT
END:VTIMEZONE
END:VCALENDAR
