BEGIN:VCALENDAR
VERSION:2.0
PRODID:-//Plone.org//NONSGML plone.app.event//EN
X-WR-TIMEZONE:Europe/Berlin
BEGIN:VEVENT
SUMMARY:Compagnie Tarkabarka – KABUFF
DTSTART;TZID=Europe/Berlin:20260328T150000
DTSTAMP:20260421T093148Z
UID:2d3324c2f457473ab8f231590c5d02c8@zmi.spielboden.at
CREATED:20251218T103800Z
DESCRIPTION:Ein poetisch freudvolles Clowntheater für die ganze Familie
LAST-MODIFIED:20260328T105811Z
URL:https://zmi.spielboden.at/Plone/compagnie-tarkabarka-kabuff
END:VEVENT
BEGIN:VTIMEZONE
TZID:Europe/Berlin
X-LIC-LOCATION:Europe/Berlin
BEGIN:STANDARD
DTSTART:20251026T020000
TZNAME:CET
TZOFFSETFROM:+0200
TZOFFSETTO:+0100
END:STANDARD
END:VTIMEZONE
END:VCALENDAR
